BEGIN:VCALENDAR
VERSION:2.0
PRODID:-//Collier Mosquito Control District - ECPv6.15.16//NONSGML v1.0//EN
CALSCALE:GREGORIAN
METHOD:PUBLISH
X-WR-CALNAME:Collier Mosquito Control District
X-ORIGINAL-URL:https://cmcd.org
X-WR-CALDESC:Events for Collier Mosquito Control District
REFRESH-INTERVAL;VALUE=DURATION:PT1H
X-Robots-Tag:noindex
X-PUBLISHED-TTL:PT1H
BEGIN:VTIMEZONE
TZID:America/New_York
BEGIN:DAYLIGHT
TZOFFSETFROM:-0500
TZOFFSETTO:-0400
TZNAME:EDT
DTSTART:20230312T070000
END:DAYLIGHT
BEGIN:STANDARD
TZOFFSETFROM:-0400
TZOFFSETTO:-0500
TZNAME:EST
DTSTART:20231105T060000
END:STANDARD
BEGIN:DAYLIGHT
TZOFFSETFROM:-0500
TZOFFSETTO:-0400
TZNAME:EDT
DTSTART:20240310T070000
END:DAYLIGHT
BEGIN:STANDARD
TZOFFSETFROM:-0400
TZOFFSETTO:-0500
TZNAME:EST
DTSTART:20241103T060000
END:STANDARD
BEGIN:DAYLIGHT
TZOFFSETFROM:-0500
TZOFFSETTO:-0400
TZNAME:EDT
DTSTART:20250309T070000
END:DAYLIGHT
BEGIN:STANDARD
TZOFFSETFROM:-0400
TZOFFSETTO:-0500
TZNAME:EST
DTSTART:20251102T060000
END:STANDARD
END:VTIMEZONE
BEGIN:VEVENT
DTSTART;TZID=America/New_York:20240803T090000
DTEND;TZID=America/New_York:20240803T120000
DTSTAMP:20260422T151932
CREATED:20240717T182336Z
LAST-MODIFIED:20240802T154152Z
UID:52576-1722675600-1722686400@cmcd.org
SUMMARY:Free Mosquitofish Distribution - CANCELED
DESCRIPTION:THIS EVENT HAS BEEN CANCELED AND WILL BE RESCHEDULED DUE TO THE UNCERTAIN WEATHER THIS WEEKEND \n  \nThese little fish are hearty\, hungry\, and free to Collier County residents! \nHave standing water in your yard? \nAre swales filling with rainwater? \nHave a non-working fountain full of standing water? \nIf so\, mosquitoes will be laying their eggs in that standing water. We can help: Our tanks are full of hungry mosquitofish ready to gobble up mosquito larvae in the standing water around your home! \nThese Gambusia holbrooki from local freshwater canals are members of the guppy family and reach about 2″ in length — each one eats about 100 larvae daily. Where to use them? Flooded yards\, swales\, and borrow pits are perfect spots\, as well as non-working fountains and pools. Have fish in your pond? Please let them do the job for you\, and let the mosquitofish work where there aren’t other fish.
URL:https://cmcd.org/event/free-mosquitofish-distribution-2/
LOCATION:Max A Hasse Jr. Community Park\, 3390 Golden Gate Blvd W\, Naples\, FL\, 34117\, United States
ORGANIZER;CN="Collier Mosquito Control District":MAILTO:info@cmcd.org
END:VEVENT
END:VCALENDAR