BEGIN:VCALENDAR
VERSION:2.0
PRODID:-//Collier Mosquito Control District - ECPv6.15.16//NONSGML v1.0//EN
CALSCALE:GREGORIAN
METHOD:PUBLISH
X-WR-CALNAME:Collier Mosquito Control District
X-ORIGINAL-URL:https://cmcd.org
X-WR-CALDESC:Events for Collier Mosquito Control District
REFRESH-INTERVAL;VALUE=DURATION:PT1H
X-Robots-Tag:noindex
X-PUBLISHED-TTL:PT1H
BEGIN:VTIMEZONE
TZID:America/New_York
BEGIN:DAYLIGHT
TZOFFSETFROM:-0500
TZOFFSETTO:-0400
TZNAME:EDT
DTSTART:20230312T070000
END:DAYLIGHT
BEGIN:STANDARD
TZOFFSETFROM:-0400
TZOFFSETTO:-0500
TZNAME:EST
DTSTART:20231105T060000
END:STANDARD
BEGIN:DAYLIGHT
TZOFFSETFROM:-0500
TZOFFSETTO:-0400
TZNAME:EDT
DTSTART:20240310T070000
END:DAYLIGHT
BEGIN:STANDARD
TZOFFSETFROM:-0400
TZOFFSETTO:-0500
TZNAME:EST
DTSTART:20241103T060000
END:STANDARD
BEGIN:DAYLIGHT
TZOFFSETFROM:-0500
TZOFFSETTO:-0400
TZNAME:EDT
DTSTART:20250309T070000
END:DAYLIGHT
BEGIN:STANDARD
TZOFFSETFROM:-0400
TZOFFSETTO:-0500
TZNAME:EST
DTSTART:20251102T060000
END:STANDARD
BEGIN:DAYLIGHT
TZOFFSETFROM:-0500
TZOFFSETTO:-0400
TZNAME:EDT
DTSTART:20260308T070000
END:DAYLIGHT
BEGIN:STANDARD
TZOFFSETFROM:-0400
TZOFFSETTO:-0500
TZNAME:EST
DTSTART:20261101T060000
END:STANDARD
END:VTIMEZONE
BEGIN:VEVENT
DTSTART;TZID=America/New_York:20250712T090000
DTEND;TZID=America/New_York:20250712T120000
DTSTAMP:20260421T202942
CREATED:20250409T174016Z
LAST-MODIFIED:20250409T174016Z
UID:53214-1752310800-1752321600@cmcd.org
SUMMARY:Free Mosquitofish Distribution
DESCRIPTION:Have standing water in your yard? \nAre swales filling with rainwater? \nHave a non-working fountain full of standing water? \nIf so\, mosquitoes will be laying their eggs in that standing water. We can help: Our tanks are full of hungry mosquitofish ready to gobble up mosquito larvae in the standing water around your home! \nThese Gambusia holbrooki from local freshwater canals are members of the guppy family and reach about 2″ in length — each one eats about 100 larvae daily. Where to use them? Flooded yards\, swales\, and borrow pits are perfect spots\, as well as non-working fountains and pools. Have fish in your pond? Please let them do the job for you\, and let the mosquitofish work where there aren’t other fish.
URL:https://cmcd.org/event/free-mosquitofish-distribution-6/
LOCATION:Max A Hasse Jr. Community Park\, 3390 Golden Gate Blvd W\, Naples\, FL\, 34117\, United States
ORGANIZER;CN="Collier Mosquito Control District":MAILTO:info@cmcd.org
END:VEVENT
BEGIN:VEVENT
DTSTART;TZID=America/New_York:20250705T100000
DTEND;TZID=America/New_York:20250705T120000
DTSTAMP:20260421T202942
CREATED:20250702T151207Z
LAST-MODIFIED:20250704T142608Z
UID:53355-1751709600-1751716800@cmcd.org
SUMMARY:Free Mosquitofish Distribution - Canceled
DESCRIPTION:Have standing water in your yard? \nAre swales filling with rainwater? \nHave a non-working fountain full of standing water? \nIf so\, mosquitoes will be laying their eggs in that standing water. We can help: Our tanks are full of hungry mosquitofish ready to gobble up mosquito larvae in the standing water around your home! \nThese Gambusia holbrooki from local freshwater canals are members of the guppy family and reach about 2″ in length — each one eats about 100 larvae daily. Where to use them? Flooded yards\, swales\, and borrow pits are perfect spots\, as well as non-working fountains and pools. Have fish in your pond? Please let them do the job for you\, and let the mosquitofish work where there aren’t other fish.
URL:https://cmcd.org/event/free-mosquitofish-distribution-13/
LOCATION:VFW Post 7721\, 13131 Collier Boulevard\, Naples\, FL\, 34119\, United States
ORGANIZER;CN="Collier Mosquito Control District":MAILTO:info@cmcd.org
END:VEVENT
BEGIN:VEVENT
DTSTART;TZID=America/New_York:20250628T120000
DTEND;TZID=America/New_York:20250628T150000
DTSTAMP:20260421T202942
CREATED:20250529T152758Z
LAST-MODIFIED:20250529T152828Z
UID:53301-1751112000-1751122800@cmcd.org
SUMMARY:Free Mosquitofish Distribution
DESCRIPTION:These little fish are hearty\, hungry\, and free to Collier County residents! \nHave standing water in your yard? \nAre swales filling with rainwater? \nHave a non-working fountain full of standing water? \nIf so\, mosquitoes will be laying their eggs in that standing water. We can help: Our tanks are full of hungry mosquitofish ready to gobble up mosquito larvae in the standing water around your home! \nThese Gambusia holbrooki from local freshwater canals are members of the guppy family and reach about 2″ in length — each one eats about 100 larvae daily. Where to use them? Flooded yards\, swales\, and borrow pits are perfect spots\, as well as non-working fountains and pools. Have fish in your pond? Please let them do the job for you\, and let the mosquitofish work where there aren’t other fish.
URL:https://cmcd.org/event/free-mosquitofish-distribution-12/
LOCATION:Alchemist Kava Bar & Lounge\, 4121 Tamiami Trail East\, Naples\, Florida\, 34112
ORGANIZER;CN="Collier Mosquito Control District":MAILTO:info@cmcd.org
END:VEVENT
BEGIN:VEVENT
DTSTART;TZID=America/New_York:20250621T090000
DTEND;TZID=America/New_York:20250621T120000
DTSTAMP:20260421T202942
CREATED:20250409T173333Z
LAST-MODIFIED:20250409T173333Z
UID:53212-1750496400-1750507200@cmcd.org
SUMMARY:Free Mosquitofish Distribution
DESCRIPTION:Have standing water in your yard? \nAre swales filling with rainwater? \nHave a non-working fountain full of standing water? \nIf so\, mosquitoes will be laying their eggs in that standing water. We can help: Our tanks are full of hungry mosquitofish ready to gobble up mosquito larvae in the standing water around your home! \nThese Gambusia holbrooki from local freshwater canals are members of the guppy family and reach about 2″ in length — each one eats about 100 larvae daily. Where to use them? Flooded yards\, swales\, and borrow pits are perfect spots\, as well as non-working fountains and pools. Have fish in your pond? Please let them do the job for you\, and let the mosquitofish work where there aren’t other fish.
URL:https://cmcd.org/event/free-mosquitofish-distribution-5/
LOCATION:Corkscrew Island Regional Park\, 810 39th Ave NE\, Naples\, FL\, 34120\, United States
ORGANIZER;CN="Collier Mosquito Control District":MAILTO:info@cmcd.org
END:VEVENT
BEGIN:VEVENT
DTSTART;TZID=America/New_York:20250611T180000
DTEND;TZID=America/New_York:20250611T200000
DTSTAMP:20260421T202942
CREATED:20250403T182637Z
LAST-MODIFIED:20250404T150651Z
UID:53208-1749664800-1749672000@cmcd.org
SUMMARY:Free Mosquitofish Distribution
DESCRIPTION:These little fish are hearty\, hungry\, and free to Collier County residents! \nHave standing water in your yard? \nAre swales filling with rainwater? \nHave a non-working fountain full of standing water? \nIf so\, mosquitoes will be laying their eggs in that standing water. We can help: Our tanks are full of hungry mosquitofish ready to gobble up mosquito larvae in the standing water around your home! \nThese Gambusia holbrooki from local freshwater canals are members of the guppy family and reach about 2″ in length — each one eats about 100 larvae daily. Where to use them? Flooded yards\, swales\, and borrow pits are perfect spots\, as well as non-working fountains and pools. Have fish in your pond? Please let them do the job for you\, and let the mosquitofish work where there aren’t other fish.
URL:https://cmcd.org/event/free-mosquitofish-distribution-4/
LOCATION:Baker Park\, 50 Riverside Circle\, Naples\, FL\, 34102\, United States
ORGANIZER;CN="Collier Mosquito Control District":MAILTO:info@cmcd.org
END:VEVENT
BEGIN:VEVENT
DTSTART;TZID=America/New_York:20250607T090000
DTEND;TZID=America/New_York:20250607T120000
DTSTAMP:20260421T202942
CREATED:20250401T133233Z
LAST-MODIFIED:20250401T133233Z
UID:53204-1749286800-1749297600@cmcd.org
SUMMARY:Free Mosquito Fish Distribution
DESCRIPTION:These little fish are hearty\, hungry\, and free to Collier County residents! \nHave standing water in your yard? \nAre swales filling with rainwater? \nHave a non-working fountain full of standing water? \nIf so\, mosquitoes will be laying their eggs in that standing water. We can help: Our tanks are full of hungry mosquitofish ready to gobble up mosquito larvae in the standing water around your home! \nThese Gambusia holbrooki from local freshwater canals are members of the guppy family and reach about 2″ in length — each one eats about 100 larvae daily. Where to use them? Flooded yards\, swales\, and borrow pits are perfect spots\, as well as non-working fountains and pools. Have fish in your pond? Please let them do the job for you\, and let the mosquitofish work where there aren’t other fish.
URL:https://cmcd.org/event/free-mosquito-fish-distribution-2/
LOCATION:North Collier Regional Park\, 1500 Livingston Road\, Naples\, FL\, 34109\, United States
END:VEVENT
BEGIN:VEVENT
DTSTART;TZID=America/New_York:20250531T100000
DTEND;TZID=America/New_York:20250531T120000
DTSTAMP:20260421T202942
CREATED:20250401T132834Z
LAST-MODIFIED:20250401T132834Z
UID:53200-1748685600-1748692800@cmcd.org
SUMMARY:Free Mosquitofish Distribution
DESCRIPTION:These little fish are hearty\, hungry\, and free to Collier County residents! \nHave standing water in your yard? \nAre swales filling with rainwater? \nHave a non-working fountain full of standing water? \nIf so\, mosquitoes will be laying their eggs in that standing water. We can help: Our tanks are full of hungry mosquitofish ready to gobble up mosquito larvae in the standing water around your home! \nThese Gambusia holbrooki from local freshwater canals are members of the guppy family and reach about 2″ in length — each one eats about 100 larvae daily. Where to use them? Flooded yards\, swales\, and borrow pits are perfect spots\, as well as non-working fountains and pools. Have fish in your pond? Please let them do the job for you\, and let the mosquitofish work where there aren’t other fish.
URL:https://cmcd.org/event/free-mosquitofish-distribution-3/
LOCATION:Sugden Regional Park\, 4284 Avalon Drive\, Naples\, Florida\, 34112
ORGANIZER;CN="Collier Mosquito Control District":MAILTO:info@cmcd.org
END:VEVENT
BEGIN:VEVENT
DTSTART;TZID=America/New_York:20250405T090000
DTEND;TZID=America/New_York:20250405T130000
DTSTAMP:20260421T202942
CREATED:20250401T130350Z
LAST-MODIFIED:20250401T130350Z
UID:53192-1743843600-1743858000@cmcd.org
SUMMARY:CMCD Open House and 75th Anniversary
DESCRIPTION:Join the Collier Mosquito Control District for our annual Open House on Saturday\, April 5 from 9 AM – 1 PM. This is a fun and family friendly event featuring community partners and hands-on demonstrations to learn more about mosquito control.
URL:https://cmcd.org/event/cmcd-open-house-and-75th-anniversary/
LOCATION:600 North Road\, Naples\, Florida 34104\, 600 North Road\, Naples\, FL\, 34104\, United States
ORGANIZER;CN="Collier Mosquito Control District":MAILTO:info@cmcd.org
END:VEVENT
BEGIN:VEVENT
DTSTART;TZID=America/New_York:20240803T090000
DTEND;TZID=America/New_York:20240803T120000
DTSTAMP:20260421T202942
CREATED:20240717T182336Z
LAST-MODIFIED:20240802T154152Z
UID:52576-1722675600-1722686400@cmcd.org
SUMMARY:Free Mosquitofish Distribution - CANCELED
DESCRIPTION:THIS EVENT HAS BEEN CANCELED AND WILL BE RESCHEDULED DUE TO THE UNCERTAIN WEATHER THIS WEEKEND \n  \nThese little fish are hearty\, hungry\, and free to Collier County residents! \nHave standing water in your yard? \nAre swales filling with rainwater? \nHave a non-working fountain full of standing water? \nIf so\, mosquitoes will be laying their eggs in that standing water. We can help: Our tanks are full of hungry mosquitofish ready to gobble up mosquito larvae in the standing water around your home! \nThese Gambusia holbrooki from local freshwater canals are members of the guppy family and reach about 2″ in length — each one eats about 100 larvae daily. Where to use them? Flooded yards\, swales\, and borrow pits are perfect spots\, as well as non-working fountains and pools. Have fish in your pond? Please let them do the job for you\, and let the mosquitofish work where there aren’t other fish.
URL:https://cmcd.org/event/free-mosquitofish-distribution-2/
LOCATION:Max A Hasse Jr. Community Park\, 3390 Golden Gate Blvd W\, Naples\, FL\, 34117\, United States
ORGANIZER;CN="Collier Mosquito Control District":MAILTO:info@cmcd.org
END:VEVENT
BEGIN:VEVENT
DTSTART;TZID=America/New_York:20240724T180000
DTEND;TZID=America/New_York:20240724T200000
DTSTAMP:20260421T202942
CREATED:20240717T182203Z
LAST-MODIFIED:20240717T182203Z
UID:52573-1721844000-1721851200@cmcd.org
SUMMARY:Free Mosquitofish Distribution
DESCRIPTION:These little fish are hearty\, hungry\, and free to Collier County residents! \nHave standing water in your yard? \nAre swales filling with rainwater? \nHave a non-working fountain full of standing water? \nIf so\, mosquitoes will be laying their eggs in that standing water. We can help: Our tanks are full of hungry mosquitofish ready to gobble up mosquito larvae in the standing water around your home! \nThese Gambusia holbrooki from local freshwater canals are members of the guppy family and reach about 2″ in length — each one eats about 100 larvae daily. Where to use them? Flooded yards\, swales\, and borrow pits are perfect spots\, as well as non-working fountains and pools. Have fish in your pond? Please let them do the job for you\, and let the mosquitofish work where there aren’t other fish.
URL:https://cmcd.org/event/free-mosquitofish-distribution/
LOCATION:Eagle Lakes Community Park\, 11565 Tamiami Trail E\, Naples\, FL\, 34113\, United States
ORGANIZER;CN="Collier Mosquito Control District":MAILTO:info@cmcd.org
END:VEVENT
BEGIN:VEVENT
DTSTART;TZID=America/New_York:20240720T090000
DTEND;TZID=America/New_York:20240720T120000
DTSTAMP:20260421T202942
CREATED:20240717T181127Z
LAST-MODIFIED:20240717T182414Z
UID:52558-1721466000-1721476800@cmcd.org
SUMMARY:Free Mosquitofish Distribution
DESCRIPTION:These little fish are hearty\, hungry\, and free to Collier County residents! \nHave standing water in your yard? \nAre swales filling with rainwater? \nHave a non-working fountain full of standing water? \nIf so\, mosquitoes will be laying their eggs in that standing water. We can help: Our tanks are full of hungry mosquitofish ready to gobble up mosquito larvae in the standing water around your home! \nThese Gambusia holbrooki from local freshwater canals are members of the guppy family and reach about 2″ in length — each one eats about 100 larvae daily. Where to use them? Flooded yards\, swales\, and borrow pits are perfect spots\, as well as non-working fountains and pools. Have fish in your pond? Please let them do the job for you\, and let the mosquitofish work where there aren’t other fish.
URL:https://cmcd.org/event/free-mosquito-fish-distribution/
LOCATION:Corkscrew Island Regional Park\, 810 39th Ave NE\, Naples\, FL\, 34120\, United States
ORGANIZER;CN="Collier Mosquito Control District":MAILTO:info@cmcd.org
END:VEVENT
END:VCALENDAR