BEGIN:VCALENDAR
VERSION:2.0
PRODID:-//Collier Mosquito Control District - ECPv6.15.16//NONSGML v1.0//EN
CALSCALE:GREGORIAN
METHOD:PUBLISH
X-WR-CALNAME:Collier Mosquito Control District
X-ORIGINAL-URL:https://cmcd.org
X-WR-CALDESC:Events for Collier Mosquito Control District
REFRESH-INTERVAL;VALUE=DURATION:PT1H
X-Robots-Tag:noindex
X-PUBLISHED-TTL:PT1H
BEGIN:VTIMEZONE
TZID:America/New_York
BEGIN:DAYLIGHT
TZOFFSETFROM:-0500
TZOFFSETTO:-0400
TZNAME:EDT
DTSTART:20240310T070000
END:DAYLIGHT
BEGIN:STANDARD
TZOFFSETFROM:-0400
TZOFFSETTO:-0500
TZNAME:EST
DTSTART:20241103T060000
END:STANDARD
BEGIN:DAYLIGHT
TZOFFSETFROM:-0500
TZOFFSETTO:-0400
TZNAME:EDT
DTSTART:20250309T070000
END:DAYLIGHT
BEGIN:STANDARD
TZOFFSETFROM:-0400
TZOFFSETTO:-0500
TZNAME:EST
DTSTART:20251102T060000
END:STANDARD
BEGIN:DAYLIGHT
TZOFFSETFROM:-0500
TZOFFSETTO:-0400
TZNAME:EDT
DTSTART:20260308T070000
END:DAYLIGHT
BEGIN:STANDARD
TZOFFSETFROM:-0400
TZOFFSETTO:-0500
TZNAME:EST
DTSTART:20261101T060000
END:STANDARD
END:VTIMEZONE
BEGIN:VEVENT
DTSTART;TZID=America/New_York:20250809T090000
DTEND;TZID=America/New_York:20250809T120000
DTSTAMP:20260421T203114
CREATED:20250409T174537Z
LAST-MODIFIED:20250709T132907Z
UID:53221-1754730000-1754740800@cmcd.org
SUMMARY:Free Mosquitofish Distribution
DESCRIPTION:Have standing water in your yard? \nAre swales filling with rainwater? \nHave a non-working fountain full of standing water? \nIf so\, mosquitoes will be laying their eggs in that standing water. We can help: Our tanks are full of hungry mosquitofish ready to gobble up mosquito larvae in the standing water around your home! \nThese Gambusia holbrooki from local freshwater canals are members of the guppy family and reach about 2″ in length — each one eats about 100 larvae daily. Where to use them? Flooded yards\, swales\, and borrow pits are perfect spots\, as well as non-working fountains and pools. Have fish in your pond? Please let them do the job for you\, and let the mosquitofish work where there aren’t other fish.
URL:https://cmcd.org/event/free-mosquitofish-distribution-9/
LOCATION:VFW Post 7721\, 13131 Collier Boulevard\, Naples\, FL\, 34119\, United States
ORGANIZER;CN="Collier Mosquito Control District":MAILTO:info@cmcd.org
END:VEVENT
BEGIN:VEVENT
DTSTART;TZID=America/New_York:20250813T180000
DTEND;TZID=America/New_York:20250813T200000
DTSTAMP:20260421T203114
CREATED:20250409T174641Z
LAST-MODIFIED:20250409T174641Z
UID:53223-1755108000-1755115200@cmcd.org
SUMMARY:Free Mosquitofish Distribution
DESCRIPTION:Have standing water in your yard? \nAre swales filling with rainwater? \nHave a non-working fountain full of standing water? \nIf so\, mosquitoes will be laying their eggs in that standing water. We can help: Our tanks are full of hungry mosquitofish ready to gobble up mosquito larvae in the standing water around your home! \nThese Gambusia holbrooki from local freshwater canals are members of the guppy family and reach about 2″ in length — each one eats about 100 larvae daily. Where to use them? Flooded yards\, swales\, and borrow pits are perfect spots\, as well as non-working fountains and pools. Have fish in your pond? Please let them do the job for you\, and let the mosquitofish work where there aren’t other fish.
URL:https://cmcd.org/event/free-mosquitofish-distribution-10/
LOCATION:Max A Hasse Jr. Community Park\, 3390 Golden Gate Blvd W\, Naples\, FL\, 34117\, United States
ORGANIZER;CN="Collier Mosquito Control District":MAILTO:info@cmcd.org
END:VEVENT
BEGIN:VEVENT
DTSTART;TZID=America/New_York:20250823T090000
DTEND;TZID=America/New_York:20250823T110000
DTSTAMP:20260421T203114
CREATED:20250409T174936Z
LAST-MODIFIED:20250820T132413Z
UID:53225-1755939600-1755946800@cmcd.org
SUMMARY:Free Mosquitofish Distribution
DESCRIPTION:Have standing water in your yard? \nAre swales filling with rainwater? \nHave a non-working fountain full of standing water? \nIf so\, mosquitoes will be laying their eggs in that standing water. We can help: Our tanks are full of hungry mosquitofish ready to gobble up mosquito larvae in the standing water around your home! \nThese Gambusia holbrooki from local freshwater canals are members of the guppy family and reach about 2″ in length — each one eats about 100 larvae daily. Where to use them? Flooded yards\, swales\, and borrow pits are perfect spots\, as well as non-working fountains and pools. Have fish in your pond? Please let them do the job for you\, and let the mosquitofish work where there aren’t other fish.
URL:https://cmcd.org/event/free-mosquitofish-distribution-11/
LOCATION:Paradise Coast Sports Complex\, 3940 City Gate Blvd\, Naples\, FL\, 34117\, United States
ORGANIZER;CN="Collier Mosquito Control District":MAILTO:info@cmcd.org
END:VEVENT
END:VCALENDAR